BEGIN:VCALENDAR
VERSION:2.0
PRODID:-//Contratero//ES
CALSCALE:GREGORIAN
METHOD:PUBLISH
BEGIN:VEVENT
UID:3788 2020SIMP0009@contratero.es
DTSTAMP:20260423T113341Z
DTSTART:20200519T235959
DTEND:20200520T005959
SUMMARY:Cierre: Servicio de mantenimiento de los sistemas ALBALÁ\, 
DESCRIPTION:Servicio de mantenimiento de los sistemas ALBALÁ\, ABSYS y BRS\, así como de su software asociado (3788)\\n\\nOrganismo: Secretaría General de Administración Digital\\n\\nVer en Contratero: https://contratero.es/contracts/3788 2020SIMP0009
URL:https://contratero.es/contracts/3788 2020SIMP0009
STATUS:CONFIRMED
BEGIN:VALARM
TRIGGER:-P1D
ACTION:DISPLAY
DESCRIPTION:Recordatorio: Servicio de mantenimiento de l
END:VALARM
END:VEVENT
END:VCALENDAR